BEGIN:VCALENDAR
VERSION:2.0
PRODID:-//Tukios.com/
BEGIN:VEVENT
UID:c53be2fd-889d-4aac-be5c-caaf793729b4@obits.phaneuf.net
DTSTAMP:20260421T132710Z
DTSTART:20260606T150000Z
DTEND:20260606T160000Z
SUMMARY:Graveside Service
DESCRIPTION:
URL:https://obits.phaneuf.net/daniel-purington
LOCATION:Pine Grove Cemetery 25 Buzzell Hill Rd.  Weare NH 03281
GEO:43.0980006;-71.7208549
END:VEVENT
END:VCALENDAR