BEGIN:VCALENDAR
VERSION:2.0
PRODID:-//Tukios.com/
BEGIN:VEVENT
UID:d4e429e5-09ba-4c6b-bee6-736678460031@obits.phaneuf.net
DTSTAMP:20260422T222828Z
DTSTART:20260720T153000Z
DTEND:20260720T163000Z
SUMMARY:Celebration of Life
DESCRIPTION:
URL:https://obits.phaneuf.net/david-blair
LOCATION: 172 King St  Boscawen NH 03303
GEO:43.3137379;-71.6175739
END:VEVENT
END:VCALENDAR