BEGIN:VCALENDAR
VERSION:2.0
PRODID:-//Tukios.com/
BEGIN:VEVENT
UID:2da22c56-a0cb-4c0e-9a30-816c55f1c88e@obits.phaneuf.net
DTSTAMP:20260422T222247Z
DTSTART:20260720T170000Z
DTEND:20260720T173000Z
SUMMARY:Burial
DESCRIPTION:
URL:https://obits.phaneuf.net/david-blair
LOCATION:New Hampshire State Veterans Cemetery 110 Daniel Webster Hwy  
	Boscawen NH 03303
GEO:43.3339303;-71.6357077
END:VEVENT
END:VCALENDAR