BEGIN:VCALENDAR
VERSION:2.0
PRODID:-//Tukios.com/
BEGIN:VEVENT
UID:277186ed-811f-466b-a487-bd5c6c50823f@obits.phaneuf.net
DTSTAMP:20260421T132622Z
DTSTART:20260502T170000Z
DTEND:20260502T210000Z
SUMMARY:Memorial Gathering
DESCRIPTION:
URL:https://obits.phaneuf.net/hal-thornton
LOCATION:American Legion 5 Riverside Street  Hooksett NH 03106
GEO:43.0970745;-71.4636114
END:VEVENT
END:VCALENDAR