BEGIN:VCALENDAR
VERSION:2.0
PRODID:-//Tukios.com/
BEGIN:VEVENT
UID:9a34c84f-e75f-4376-949f-43357c1f3c3c@obits.phaneuf.net
DTSTAMP:20260424T222455Z
DTSTART:20260501T180000Z
DTEND:20260501T193000Z
SUMMARY:Memorial Gathering
DESCRIPTION:
URL:https://obits.phaneuf.net/jubalee-rios
LOCATION: 26 Kinsley St  Nashua NH 03060
GEO:42.7551592;-71.4663868
END:VEVENT
END:VCALENDAR