BEGIN:VCALENDAR
VERSION:2.0
PRODID:-//Tukios.com/
BEGIN:VEVENT
UID:b824713b-aded-46e8-9338-dd9590fbbdb6@obits.phaneuf.net
DTSTAMP:20260424T222455Z
DTSTART:20260501T193000Z
DTEND:20260501T200000Z
SUMMARY:Memorial Service
DESCRIPTION:
URL:https://obits.phaneuf.net/jubalee-rios
LOCATION: 26 Kinsley St  Nashua NH 03060
GEO:42.7551592;-71.4663868
END:VEVENT
END:VCALENDAR