BEGIN:VCALENDAR
VERSION:2.0
PRODID:-//Tukios.com/
BEGIN:VEVENT
UID:c5447ed9-ee9a-4eda-8e82-e5001e84dad1@obits.phaneuf.net
DTSTAMP:20260420T213530Z
DTSTART:20260423T190000Z
DTEND:20260423T210000Z
SUMMARY:Memorial Gathering
DESCRIPTION:
URL:https://obits.phaneuf.net/marianne-estey
LOCATION:Phaneuf Funeral Home and Crematorium 172 King Street  Boscawen 
	NH 03303
GEO:43.3137456;-71.6176203
END:VEVENT
END:VCALENDAR