BEGIN:VCALENDAR
VERSION:2.0
PRODID:-//Tukios.com/
BEGIN:VEVENT
UID:10d06c63-aa22-4ef7-810e-6b801429da27@obits.phaneuf.net
DTSTAMP:20260423T093404Z
DTSTART:20260516T130000Z
DTEND:20260516T140000Z
SUMMARY:Burial
DESCRIPTION:
URL:https://obits.phaneuf.net/maude-higley
LOCATION:Christ Church Cemetery Melendy Hill Rd  Guilford VT 05301
GEO:42.8026205;-72.5778542
END:VEVENT
END:VCALENDAR