BEGIN:VCALENDAR
VERSION:2.0
PRODID:-//Tukios.com/
BEGIN:VEVENT
UID:35a887e8-d9d3-4015-aa37-55c4b63c641e@obits.phaneuf.net
DTSTAMP:20260420T221536Z
DTSTART:20260423T200000Z
DTEND:20260423T210000Z
SUMMARY:Memorial Gathering
DESCRIPTION:
URL:https://obits.phaneuf.net/sonia-olsen
LOCATION:Phaneuf Funeral Homes & Crematorium 243 Hanover Street  
	Manchester NH 03104
GEO:42.9904051;-71.4570692
END:VEVENT
END:VCALENDAR