BEGIN:VCALENDAR
VERSION:2.0
PRODID:-//Tukios.com/
BEGIN:VEVENT
UID:92759f9e-9af5-444c-b97a-5c1826514215@obits.phaneuf.net
DTSTAMP:20260420T221531Z
DTSTART:20260423T210000Z
DTEND:20260423T220000Z
SUMMARY:Memorial Service
DESCRIPTION:
URL:https://obits.phaneuf.net/sonia-olsen
LOCATION:Phaneuf Funeral Homes & Crematorium 243 Hanover Street  
	Manchester NH 03104
GEO:42.9904051;-71.4570692
END:VEVENT
END:VCALENDAR