BEGIN:VCALENDAR
VERSION:2.0
PRODID:-//Tukios.com/
BEGIN:VEVENT
UID:54b10b5f-9814-4b1a-9b2f-04af3cc283fd@obits.phaneuf.net
DTSTAMP:20260420T161937Z
DTSTART:20260502T140000Z
DTEND:20260502T170000Z
SUMMARY:Memorial Gathering
DESCRIPTION:
URL:https://obits.phaneuf.net/timothy-carmilia
LOCATION:Phaneuf Funeral Homes and Crematoriums 243 Hanover Street  
	Manchester NH 03104
GEO:42.9904051;-71.4570692
END:VEVENT
END:VCALENDAR