BEGIN:VCALENDAR
VERSION:2.0
PRODID:-//Tukios.com/
BEGIN:VEVENT
UID:5a3be8d1-8270-47d3-b43c-f37e71a30c25@obits.phaneuf.net
DTSTAMP:20260420T162008Z
DTSTART:20260502T183000Z
DTEND:20260502T193000Z
SUMMARY:Celebration of Life
DESCRIPTION:
URL:https://obits.phaneuf.net/timothy-carmilia
LOCATION:New Beginnings Nazarene Church 33 Staniels Road  Loudon NH 03307
GEO:43.2545312;-71.4576338
END:VEVENT
END:VCALENDAR