BEGIN:VCALENDAR
VERSION:2.0
PRODID:-//Tukios.com/
BEGIN:VEVENT
UID:f2900d20-e877-4565-a6d6-1034b80a9d30@obits.phaneuf.net
DTSTAMP:20260420T013751Z
DTSTART:20260420T170000Z
DTEND:20260420T190000Z
SUMMARY:Memorial Service
DESCRIPTION:
URL:https://obits.phaneuf.net/vincent-dusio-jr
LOCATION:Phaneuf Funeral Homes 172 King Street  Boscawen NH 03303
GEO:43.3137456;-71.6176203
END:VEVENT
END:VCALENDAR